BEGIN:VCALENDAR
PRODID:-//eluceo/ical//2.0/EN
VERSION:2.0
CALSCALE:GREGORIAN
BEGIN:VEVENT
UID:d2ade61c958f03f7a1aaf30e0b5e2590
DTSTAMP:20260421T234731Z
SUMMARY:Plauderlunch Rest. Kreuz Metzerlen
DESCRIPTION:
URL:https://laufen.rotary1980.ch/it/agenda/show/115372
DTSTART;TZID=Europe/Zurich:20200717T121500
DTEND;TZID=Europe/Zurich:20200717T140000
LOCATION:Restaurant Kreuz Metzerlen
CATEGORIES:Rotary
END:VEVENT
BEGIN:VTIMEZONE
TZID:Europe/Zurich
BEGIN:DAYLIGHT
DTSTART:20200717T121500
TZNAME:CEST
TZOFFSETTO:+0200
TZOFFSETFROM:+0200
END:DAYLIGHT
END:VTIMEZONE
END:VCALENDAR
