BEGIN:VCALENDAR
PRODID:-//eluceo/ical//2.0/EN
VERSION:2.0
CALSCALE:GREGORIAN
BEGIN:VEVENT
UID:7e308b924ee010a4205d092e2b806b65
DTSTAMP:20260421T132529Z
SUMMARY:Outdoor Plauderlunch - Rest. Schlosshof in 4143 Dornach
DESCRIPTION:Site internet: http://www.schlosshof-dornach.ch
URL:https://laufen.rotary1980.ch/fr/agenda/show/130030
DTSTART;TZID=Europe/Zurich:20210730T120000
DTEND;TZID=Europe/Zurich:20210730T140000
LOCATION:4143 Dornach
CATEGORIES:Rotary
END:VEVENT
BEGIN:VTIMEZONE
TZID:Europe/Zurich
BEGIN:DAYLIGHT
DTSTART:20210730T120000
TZNAME:CEST
TZOFFSETTO:+0200
TZOFFSETFROM:+0200
END:DAYLIGHT
END:VTIMEZONE
END:VCALENDAR
