BEGIN:VCALENDAR
PRODID:-//eluceo/ical//2.0/EN
VERSION:2.0
CALSCALE:GREGORIAN
BEGIN:VEVENT
UID:2daa8eb7afaf23a4a4f15b5f8bc49c2c
DTSTAMP:20260420T074622Z
SUMMARY:Ferienlunch mit Damen 
DESCRIPTION:
URL:https://laufen.rotary1980.ch/es/agenda/show/63737
DTSTART;TZID=Europe/Zurich:20160715T114500
DTEND;TZID=Europe/Zurich:20160715T114500
LOCATION:Restaurant Steinegg\, Himmelried
CATEGORIES:Rotary
END:VEVENT
BEGIN:VTIMEZONE
TZID:Europe/Zurich
BEGIN:DAYLIGHT
DTSTART:20160715T114500
TZNAME:CEST
TZOFFSETTO:+0200
TZOFFSETFROM:+0200
END:DAYLIGHT
END:VTIMEZONE
END:VCALENDAR
