BEGIN:VCALENDAR
PRODID:-//eluceo/ical//2.0/EN
VERSION:2.0
CALSCALE:GREGORIAN
BEGIN:VEVENT
UID:5f62a86b3f9ef8b1b3857a331ec94bdc
DTSTAMP:20260421T135430Z
SUMMARY:Plauderlunch Rest. zur Rose\, Flüh
DESCRIPTION:Sitio web: http://roseflueh.ch/
URL:https://laufen.rotary1980.ch/es/agenda/show/115375
DTSTART;TZID=Europe/Zurich:20200724T121500
DTEND;TZID=Europe/Zurich:20200724T140000
LOCATION:Restaurant zur Rose\, Flüh
CATEGORIES:Rotary
END:VEVENT
BEGIN:VTIMEZONE
TZID:Europe/Zurich
BEGIN:DAYLIGHT
DTSTART:20200724T121500
TZNAME:CEST
TZOFFSETTO:+0200
TZOFFSETFROM:+0200
END:DAYLIGHT
END:VTIMEZONE
END:VCALENDAR
