BEGIN:VCALENDAR
PRODID:-//eluceo/ical//2.0/EN
VERSION:2.0
CALSCALE:GREGORIAN
BEGIN:VEVENT
UID:64193d5322fe79c7fd551d1d3756c972
DTSTAMP:20260421T140100Z
SUMMARY:Plauderlunch
DESCRIPTION:
URL:https://laufen.rotary1980.ch/es/agenda/show/114651
DTSTART;TZID=Europe/Zurich:20200703T121500
DTEND;TZID=Europe/Zurich:20200703T140000
LOCATION:Klosterschenke Dornach
CATEGORIES:Rotary
END:VEVENT
BEGIN:VTIMEZONE
TZID:Europe/Zurich
BEGIN:DAYLIGHT
DTSTART:20200703T121500
TZNAME:CEST
TZOFFSETTO:+0200
TZOFFSETFROM:+0200
END:DAYLIGHT
END:VTIMEZONE
END:VCALENDAR
