BEGIN:VCALENDAR
PRODID:-//eluceo/ical//2.0/EN
VERSION:2.0
CALSCALE:GREGORIAN
BEGIN:VEVENT
UID:d3d7dd983631e98d2d43dad16eceb6ba
DTSTAMP:20260425T155225Z
SUMMARY:Vortrag Remo Cron\, Swiss Innovation Park 
DESCRIPTION:
URL:https://laufen.rotary1980.ch/de/agenda/show/63743
DTSTART;TZID=Europe/Zurich:20160819T114500
DTEND;TZID=Europe/Zurich:20160819T114500
LOCATION:Restaurant Central
CATEGORIES:Rotary
END:VEVENT
BEGIN:VTIMEZONE
TZID:Europe/Zurich
BEGIN:DAYLIGHT
DTSTART:20160819T114500
TZNAME:CEST
TZOFFSETTO:+0200
TZOFFSETFROM:+0200
END:DAYLIGHT
END:VTIMEZONE
END:VCALENDAR
